BEGIN:VCALENDAR
VERSION:2.0
PRODID:-//De Onderstroom - ECPv6.15.20//NONSGML v1.0//EN
CALSCALE:GREGORIAN
METHOD:PUBLISH
X-WR-CALNAME:De Onderstroom
X-ORIGINAL-URL:https://www.de-onderstroom.nl
X-WR-CALDESC:Evenementen voor De Onderstroom
REFRESH-INTERVAL;VALUE=DURATION:PT1H
X-Robots-Tag:noindex
X-PUBLISHED-TTL:PT1H
BEGIN:VTIMEZONE
TZID:Europe/Amsterdam
BEGIN:DAYLIGHT
TZOFFSETFROM:+0100
TZOFFSETTO:+0200
TZNAME:CEST
DTSTART:20220327T010000
END:DAYLIGHT
BEGIN:STANDARD
TZOFFSETFROM:+0200
TZOFFSETTO:+0100
TZNAME:CET
DTSTART:20221030T010000
END:STANDARD
BEGIN:DAYLIGHT
TZOFFSETFROM:+0100
TZOFFSETTO:+0200
TZNAME:CEST
DTSTART:20230326T010000
END:DAYLIGHT
BEGIN:STANDARD
TZOFFSETFROM:+0200
TZOFFSETTO:+0100
TZNAME:CET
DTSTART:20231029T010000
END:STANDARD
BEGIN:DAYLIGHT
TZOFFSETFROM:+0100
TZOFFSETTO:+0200
TZNAME:CEST
DTSTART:20240331T010000
END:DAYLIGHT
BEGIN:STANDARD
TZOFFSETFROM:+0200
TZOFFSETTO:+0100
TZNAME:CET
DTSTART:20241027T010000
END:STANDARD
END:VTIMEZONE
BEGIN:VEVENT
DTSTART;TZID=Europe/Amsterdam:20230421T193000
DTEND;TZID=Europe/Amsterdam:20230421T213000
DTSTAMP:20260420T101840
CREATED:20230116T160322Z
LAST-MODIFIED:20230216T122327Z
UID:4003-1682105400-1682112600@www.de-onderstroom.nl
SUMMARY:Verander niks event
DESCRIPTION:Spetterende boekpresentatie\nHet verander niks event is de boeklancering van mijn nieuwste boek:  Verander Niks! Goed zijn in wie je bent. \nStop je zelfverbeterdrang & word je eigen BFF *** lees de pakkende inleiding en/of de achterflap  \n \n  \nTijd en plaats\nTheaterzaal bibliotheek Utrecht \nVrijdag 21 april 2023 \n \nProgramma Verander Niks Event\nImprovisatie toneel Met Haar Zonder Hem \nSprekers: \n\nMaster of S.P.E.L – Lex Mulder\nSchrijfcoach en kleinkunstenaar – Nanda Huneman\nVoice Dialogue expert – Judith Budde\n\n\n \n\nDrankje & boeksignering!\n \nReserveer nu snel je ticket!\n \n\nZie ook www.veranderniks.nl \n  \nLees ‘Verander niks’ als ….\n \n \n\nAlle zelfhulpboeken jou tot dusver nog nooit echt goed hebben geholpen … helaas\nJe nog meer te weten wil komen over jezelf\nJe heel graag je allerbeste vriend wil worden\nJe meer wil weten over de Voice Dialogue methode\n\n \n \nUit de inleiding van ‘Verander niks’\nEr bestaat een kloof tussen hoe we ons idealiter willen gedragen en wat we daadwerkelijkdoen. Tussen wat we als wijs en verstandig gedrag beschouwen en onze emotionele reactiesin de dagelijkse praktijk. Tussen onze betere versie en ons ‘echte’ zelf. We beschouwen diekloof als een probleem\, we doen ons best om de afstand tussen wens en werkelijkheid teverkleinen. Herken je het? Dat je niet\, misschien wel nooit\, voldoet aan je eigenkwaliteitscriteria? Hoe hard je ook je best doet? En dat het voelt als falen\, als je niet bentzoals je vindt dat je behoort te zijn?Die voortdurende spanning tussen de gewenste versie van jezelf en de versie die je echtbent\, kun je nooit opheffen. Hoeveel trainingen je ook volgt. Het blijft een levenslangeworsteling om met dat verschil om te gaan.Toen ik dat eenmaal inzag\, veranderde alles. Ik begreep dat die worsteling precies is wat wenodig hebben. Juist daardoor wordt het mogelijk om onszelf te leren kennen\, om te groeienen onszelf toe te staan diegene te worden die we zijn. Niet diegene die we zouden moetenzijn.Ik verzeker je dat jij er na het lezen van dit boek ook van overtuigd bent dat je precies goedbent\, inclusief al je tekorten. \nOver Karin Brugman\n \n  \nKarin Brugman is opleider\, trainer en (relatie)coach\, met meer dan 25 jaar ervaring. Ze is expert op het gebied van werken met Voice Dialogue. Honderden trainers en coaches zijn al door haar opgeleid in dit gedachtengoed. Ze is co-auteur van de bestseller en longseller ‘Ik (k)en mijn Ikken. Ontdek andere kanten van jezelf met Voice Dialogue’ en van het boek ‘Coachen met Voice Dialogue. Handboek voor  begeleiders.’ \nKarin ziet problemen van mensen als boeiende verhalen. Het gaat er haar niet om om mensen zo snel mogelijk van A naar B te brengen\, maar om alles wat er tijdens een crisis opdoemt en voorbijkomt te accepteren en serieus te nemen. Ze werkt graag met mensen die zichzelf onbewust tegenhouden om zichzelf te zijn.  \nVerander niks boek – nu al in de voorverkoop!\nHet boek komt binnenkort uit\, namelijk op 21 april 2023\, bij uitgeverij Thema. Zie ook de blog met een voorbeeld oefening uit het boek\, op de website van Thema. \nWees nu al zeker van je eigen exemplaar en bestel het boek meteen in de voorverkoop in de webshop van De Onderstroom training & coaching. \n \n \n 
URL:https://www.de-onderstroom.nl/activiteiten/verander-niks-event/
LOCATION:Bibliotheek Utrecht\, Neude 11\, Utrecht\, Utrecht\, 3512AE\, Nederland
CATEGORIES:event
ATTACH;FMTTYPE=image/png:https://www.de-onderstroom.nl/wp-content/uploads/2023/01/1.png
END:VEVENT
END:VCALENDAR